BEGIN:VCALENDAR
VERSION:2.0
PRODID:-//Talks.cam//talks.cam.ac.uk//
X-WR-CALNAME:Talks.cam
BEGIN:VEVENT
SUMMARY:Foster Talk - Dr Rachel Tribe "How to expect the unexpected. Predi
 ction and prevention of preterm birth" Physiology Lecture Theatre - Dr Rac
 hel Tribe\,Kings College London
DTSTART:20180118T160000Z
DTEND:20180118T170000Z
UID:TALK96526@talks.cam.ac.uk
CONTACT:Lyn Dakin
DESCRIPTION:Abstract not available
LOCATION:Hodgkin Huxley Seminar Room\, Physiology Building\, Downing Site
END:VEVENT
END:VCALENDAR
