BEGIN:VCALENDAR
VERSION:2.0
PRODID:-//Talks.cam//talks.cam.ac.uk//
X-WR-CALNAME:Talks.cam
BEGIN:VEVENT
SUMMARY:Ruffled Feathers - Tony Juniper\, Marcus Coates\, Clive Adams and 
 more
DTSTART:20071112T100000Z
DTEND:20071112T170000Z
UID:TALK8958@talks.cam.ac.uk
CONTACT:Lara Gisborne
DESCRIPTION:Historically\, we have valued birds for their flesh and feathe
 rs and their symbolic power. Coinciding with the Henrik Håkansson exhibit
 ion\, this one-day symposium\, organised with Birdlife International and C
 RASSH\, will delve into the cultural and ecological contexts of our confli
 cted relationship with nature and the significance of birds in the collect
 ive imagination.\nSpeakers\n\n    * Marcus Coates (Artist)\n    * Clive Ad
 ams (Centre for Contemporary Art and the Natural World\, Exeter)\n    * To
 ny Juniper (Executive Director\, Friends of the Earth)\n    * Leon Bennun 
 (Director of Science\, Policy and Information\, Birdlife International)\n 
    * Stuart Butchart (Global Species Officer\, Birdlife International)\n  
   * John Fanshawe (Head of Strategic Development\, Birdlife International)
 \n    * Helen McDonald (Junior Research Fellow in History and Philosophy o
 f Science\, University of Cambridge)\n    * Jamie Shovelin (Artist)\n    *
  Andrew Whitehouse (Research Fellow\, School of Social Sciences\, Universi
 ty of Aberdeen)\n\nSee http://www.crassh.cam.ac.uk/events/2007-8/ruffledfe
 athers.html for more information
LOCATION:Kettle's Yard
END:VEVENT
END:VCALENDAR
