BEGIN:VCALENDAR
VERSION:2.0
PRODID:-//Talks.cam//talks.cam.ac.uk//
X-WR-CALNAME:Talks.cam
BEGIN:VEVENT
SUMMARY:"Mimicry - Lamarck's revival?" - Wolfgang Wickler:  MPI for Ornith
 ology\, Germany
DTSTART:20071107T123000Z
DTEND:20071107T133000Z
UID:TALK8583@talks.cam.ac.uk
CONTACT:Lucie Salwiczek
DESCRIPTION:Abstract not available
LOCATION:Library\, Sub-Department of Animal Behaviour\, Madingley
END:VEVENT
END:VCALENDAR
