BEGIN:VCALENDAR
VERSION:2.0
PRODID:-//Talks.cam//talks.cam.ac.uk//
X-WR-CALNAME:Talks.cam
BEGIN:VEVENT
SUMMARY:Dynamics of ecological speciation: case studies and mathematical m
 odels - Sergey Gavrilets\, University of Tennessee
DTSTART:20070925T160000Z
DTEND:20070925T170000Z
UID:TALK8056@talks.cam.ac.uk
CONTACT:Brenda Bradley
DESCRIPTION:Abstract not available
LOCATION:Part II Lecture Theatre\, Department of Zoology
END:VEVENT
END:VCALENDAR
