BEGIN:VCALENDAR
VERSION:2.0
PRODID:-//Talks.cam//talks.cam.ac.uk//
X-WR-CALNAME:Talks.cam
BEGIN:VEVENT
SUMMARY:DeMISTifying the brain: a dissection of complex neural circuits - 
 Dr Alla Karpova\, Howard Hughes Medical Institute\, Janelia Farm
DTSTART:20070918T150000Z
DTEND:20070918T160000Z
UID:TALK7906@talks.cam.ac.uk
CONTACT:Dr Danielle Turner
DESCRIPTION:Abstract not available
LOCATION:Part 2 PDN Seminar room\, Craik Marshall Building\, Downing Site
END:VEVENT
END:VCALENDAR
