BEGIN:VCALENDAR
VERSION:2.0
PRODID:-//Talks.cam//talks.cam.ac.uk//
X-WR-CALNAME:Talks.cam
BEGIN:VEVENT
SUMMARY:Global patterns of diversity in birds - Ian Owens\, Imperial Colle
 ge London
DTSTART:20071113T170000Z
DTEND:20071113T180000Z
UID:TALK7858@talks.cam.ac.uk
CONTACT:Brenda Bradley
DESCRIPTION:Abstract not available
LOCATION:Part II Lecture Theatre\, Department of Zoology
END:VEVENT
END:VCALENDAR
