BEGIN:VCALENDAR
VERSION:2.0
PRODID:-//Talks.cam//talks.cam.ac.uk//
X-WR-CALNAME:Talks.cam
BEGIN:VEVENT
SUMMARY:Nominal applications of the classifying space of the finitary perm
 utation group - Ulrik Buchholtz (Technische Universität Darmstadt)
DTSTART:20170706T143000Z
DTEND:20170706T153000Z
UID:TALK73179@talks.cam.ac.uk
CONTACT:INI IT
DESCRIPTION:
LOCATION:Seminar Room 2\, Newton Institute
END:VEVENT
END:VCALENDAR
