BEGIN:VCALENDAR
VERSION:2.0
PRODID:-//Talks.cam//talks.cam.ac.uk//
X-WR-CALNAME:Talks.cam
BEGIN:VEVENT
SUMMARY: International Economic Association Roundtable on The Economics of
  Religion  - Speaker to be confirmed
DTSTART:20170710T083000Z
DTEND:20170710T163000Z
UID:TALK73011@talks.cam.ac.uk
CONTACT:Cambridge-INET Institute
DESCRIPTION:Web page: http://www.inet.econ.cam.ac.uk/our-events/internatio
 nal-economic-association-roundtable-on-the-economics-of-religion\n\nPlease
  register here: https://goo.gl/ZfLO9t
LOCATION:McGrath Theatre\, St Catharine's College
END:VEVENT
END:VCALENDAR
