BEGIN:VCALENDAR
VERSION:2.0
PRODID:-//Talks.cam//talks.cam.ac.uk//
X-WR-CALNAME:Talks.cam
BEGIN:VEVENT
SUMMARY:Affine centralizer algebras - Lilit Martirosyan (Max-Planck-Instit
 ut für Mathematik\, Bonn)
DTSTART:20170615T150000Z
DTEND:20170615T160000Z
UID:TALK72951@talks.cam.ac.uk
CONTACT:INI IT
DESCRIPTION:I will describe the representations of (affine) centralizer al
 gebras for quantum groups in terms of paths. I will talk about generators 
 for these algebras. As an example\, we will consider the Lie algebra $G_2$
  and its centralizer algebras.&nbsp\;<br>
LOCATION:Seminar Room 1\, Newton Institute
END:VEVENT
END:VCALENDAR
