BEGIN:VCALENDAR
VERSION:2.0
PRODID:-//Talks.cam//talks.cam.ac.uk//
X-WR-CALNAME:Talks.cam
BEGIN:VEVENT
SUMMARY:Molecular mechanisms of cardiomyopathies in patients with severe n
 on-ischemic heart failure - Prof Hendrik Milting\, Ruhr University Bochum\
 , Germany
DTSTART:20171012T120000Z
DTEND:20171012T130000Z
UID:TALK72766@talks.cam.ac.uk
CONTACT:47770
DESCRIPTION:Abstract not available
LOCATION:Alice Fisher Lecture theatre\, Addenbrookes Hospital\, Cambridge.
END:VEVENT
END:VCALENDAR
