BEGIN:VCALENDAR
VERSION:2.0
PRODID:-//Talks.cam//talks.cam.ac.uk//
X-WR-CALNAME:Talks.cam
BEGIN:VEVENT
SUMMARY:Literary Lunch: Martin Bell in conversation with Stephen Chittende
 n - Martin Bell
DTSTART:20170619T110000Z
DTEND:20170619T140000Z
UID:TALK72731@talks.cam.ac.uk
CONTACT:Paul Ireland
DESCRIPTION:Enjoy lunch with a glass of wine in Madingley Hall's spectacul
 ar Dining Hall and listen to former BBC war correspondent and MP\, Martin 
 Bell discussing his new book\, _War and the Death of News\, Reflections of
  a Grade B Reporter_.\n\nIn this compelling account\, one of the outstandi
 ng journalists of our time provides a moving\, personal account of war and
  issues an impassioned call to put the substance back in our news.\n\nHe w
 ill be discussing the changes in how we receive and respond to news with f
 ellow BBC reporter Stephen Chittenden\, a graduate of the Institute of Con
 tinuing Education’s Master’s in Creative Writing.\n\nTickets are £25 
 per person. Signed copies of the book will be available to buy at the even
 t from Toppings\, Ely’s famous independent bookseller.\n\n"Book your pla
 ce online":https://www.eventbrite.co.uk/e/literary-lunch-martin-bell-in-co
 nversation-with-stephen-chittenden-tickets-34277539042
LOCATION:Institute of Continuing Education\, Madingley Hall
END:VEVENT
END:VCALENDAR
