BEGIN:VCALENDAR
VERSION:2.0
PRODID:-//Talks.cam//talks.cam.ac.uk//
X-WR-CALNAME:Talks.cam
BEGIN:VEVENT
SUMMARY:What are you worth? Valuing ourselves and our natural environment 
  - Prof Aled Jones\, Global Sustainability Institute
DTSTART:20170323T130000Z
DTEND:20170323T140000Z
UID:TALK71387@talks.cam.ac.uk
CONTACT:Felicity Clarke
DESCRIPTION:Interactive seminar with Prof Aled Jones\, Director of the Glo
 bal Sustainability Institute\, Anglia Ruskin University. Can you put a pri
 ce on the value absolutely anything? Can you put a value on yourself? Who 
 decides the worth of a person\, or an animal\, or a river? We look at the 
 different factors that determine worth\, and how this links to the concept
  of Natural Capital and protection of the environment\nOpen to all and fre
 e to attend\, this event is part of the Cambridge Science Festival\nhttp:/
 /www.sciencefestival.cam.ac.uk/events/what-are-you-worth-valuing-ourselves
 -and-our-natural-environment
LOCATION:Lord Ashcroft Building (LAB027)\, Anglia Ruskin University\, Camb
 ridge
END:VEVENT
END:VCALENDAR
