BEGIN:VCALENDAR
VERSION:2.0
PRODID:-//Talks.cam//talks.cam.ac.uk//
X-WR-CALNAME:Talks.cam
BEGIN:VEVENT
SUMMARY:Cancer Research - Prof Richard Gilbertson
DTSTART:20170216T190000Z
DTEND:20170216T200000Z
UID:TALK71180@talks.cam.ac.uk
CONTACT:Aranka Hrušková
DESCRIPTION:Abstract not available
LOCATION:Dirac Room\, Fisher Buidling\, St John's College
END:VEVENT
END:VCALENDAR
