BEGIN:VCALENDAR
VERSION:2.0
PRODID:-//Talks.cam//talks.cam.ac.uk//
X-WR-CALNAME:Talks.cam
BEGIN:VEVENT
SUMMARY:The Dancer of the Future from a Socialist Point of View: Eleanor M
 arx\, Isadora Duncan\, and Choreographing Socialist Feminism - Dana Mills 
 (NYU)
DTSTART:20170120T130000Z
DTEND:20170120T143000Z
UID:TALK70192@talks.cam.ac.uk
CONTACT:Dr Duncan Bell
DESCRIPTION:Abstract not available
LOCATION:Prioress's Room\, Jesus College
END:VEVENT
END:VCALENDAR
