BEGIN:VCALENDAR
VERSION:2.0
PRODID:-//Talks.cam//talks.cam.ac.uk//
X-WR-CALNAME:Talks.cam
BEGIN:VEVENT
SUMMARY:Lifestyle intreventions to prevent Alzheimer's disease  - Dr Naji 
 Tabet\, Brighton & Sussex Medical School\, United Kingdom
DTSTART:20161221T083000Z
DTEND:20161221T090000Z
UID:TALK69798@talks.cam.ac.uk
CONTACT:Ilana Spilka
DESCRIPTION:I will Present the risk factors for Alzheiemr's disease (genet
 ic\, ageining\, hypertension\, diabetes\, depression\, obesity\, alcoholis
 m\, poor diet\, lack of  exercise etc. etc. Then I will present evidence t
 hat support different types of interventions. I will then go through what 
 can be done lifestylewise to try to prevent the diseaes.
LOCATION:Online
END:VEVENT
END:VCALENDAR
