BEGIN:VCALENDAR
VERSION:2.0
PRODID:-//Talks.cam//talks.cam.ac.uk//
X-WR-CALNAME:Talks.cam
BEGIN:VEVENT
SUMMARY:SPACE Coffee and Cake  - .
DTSTART:20170118T100000Z
DTEND:20170118T110000Z
UID:TALK69784@talks.cam.ac.uk
CONTACT:Equality & Diversity
DESCRIPTION:Do you have caring responsibilities? \n\nJoin other parents an
 d carers across the University at the first SPACE (Supporting Parents And 
 Carers @ CambridgE) event. \n\nFind out about My Family Care and get an up
 date on University childcare services from Sue Davis from the Childcare Of
 fice. \n\n*To book your place\, please visit: https://spacecoffeecake.even
 tbrite.co.uk*\n
LOCATION:Cormack Room\, University Centre\, Granta Place\, CB2 1RU\, Mill 
 Lane\, United Kingdom
END:VEVENT
END:VCALENDAR
