BEGIN:VCALENDAR
VERSION:2.0
PRODID:-//Talks.cam//talks.cam.ac.uk//
X-WR-CALNAME:Talks.cam
BEGIN:VEVENT
SUMMARY:Orthography\, <ει>? Spellings in Papyri\, Uncials\, and Tyndale 
 House’s *The New Testament in its Original Greek* - Patrick James (Cambr
 idge)
DTSTART:20161116T163000Z
DTEND:20161116T173000Z
UID:TALK67781@talks.cam.ac.uk
CONTACT:James Clackson
DESCRIPTION:Abstract not available
LOCATION:1.11 Classics Faculty
END:VEVENT
END:VCALENDAR
