BEGIN:VCALENDAR
VERSION:2.0
PRODID:-//Talks.cam//talks.cam.ac.uk//
X-WR-CALNAME:Talks.cam
BEGIN:VEVENT
SUMMARY:Struggling judges: do they need a probability help desk? A daily l
 egal practice point of view - Lonneke Stevens (Vrije Universiteit Amsterda
 m)
DTSTART:20160831T133000Z
DTEND:20160831T140000Z
UID:TALK67138@talks.cam.ac.uk
CONTACT:INI IT
DESCRIPTION:Would all judicial decisions benefit from using probability an
 d statistics? Judges do not seem to think so. In daily practice most cases
  are just not very complex. However\, case-law demonstrates that judges re
 currently struggle with questions and concepts of fact-finding even in the
  not too complex cases. What are these questions\, which mistakes are made
  and how could reasoning with probabilities help?   &nbsp\;  &nbsp\;  &nbs
 p\;      <br>
LOCATION:Seminar Room 1\, Newton Institute
END:VEVENT
END:VCALENDAR
