BEGIN:VCALENDAR
VERSION:2.0
PRODID:-//Talks.cam//talks.cam.ac.uk//
X-WR-CALNAME:Talks.cam
BEGIN:VEVENT
SUMMARY:Regulation of AMPA receptor trafficking and synaptic plasticity by
  PICK1: a BAR domain protein and actin modulator - University of Bristol\,
  School of Biochemistry
DTSTART:20160526T140000Z
DTEND:20160526T150000Z
UID:TALK66336@talks.cam.ac.uk
CONTACT:Ingo Greger
DESCRIPTION:Abstract not available
LOCATION:Klug Seminar Room\, Level 2\, LMB
END:VEVENT
END:VCALENDAR
