BEGIN:VCALENDAR
VERSION:2.0
PRODID:-//Talks.cam//talks.cam.ac.uk//
X-WR-CALNAME:Talks.cam
BEGIN:VEVENT
SUMMARY:Mass spectrometry imaging - seeing the unseen - Zoltán Takáts\, 
 Richard Goodwin & Josephine Bunch
DTSTART:20160526T153000Z
DTEND:20160526T170000Z
UID:TALK66085@talks.cam.ac.uk
CONTACT:Claus Bendtsen
DESCRIPTION:We will highlight how mass spectrometry imaging has emerged as
  a range of technologies for seeing\, at a molecular level\, endogenous an
 d exogenous interactions in cells\, tissues and the body. Over the last de
 cade mass spectrometry imaging (MSI) has evolved into a powerful array of 
 technologies that has utility for single cell analysis through to intraope
 rative applications. The three presentations will cover the breadth of app
 lications\, describe the current state of the art technologies (MALDI\, DE
 SI\, SIMS\, iKnife\, REIMS) and consider how MSI will revolutionise our fu
 ture science.\n\nPlease register at:\nhttps://www.eventbrite.co.uk/event/2
 5051430503
LOCATION:Building 310 on the Cambridge Science Park
END:VEVENT
END:VCALENDAR
