BEGIN:VCALENDAR
VERSION:2.0
PRODID:-//Talks.cam//talks.cam.ac.uk//
X-WR-CALNAME:Talks.cam
BEGIN:VEVENT
SUMMARY:On complex numbers in the Arakawa-Kaneko zeta-functions - Khaled O
 uafi - Khaled Ouafi (Harvard University)
DTSTART:20160427T100000Z
DTEND:20160427T120000Z
UID:TALK65976@talks.cam.ac.uk
CONTACT:Matthew Hammond
DESCRIPTION:We discuss functional relations for these zeta-functions\, whi
 ch are regarded as interpolation formulas of various relations among poly-
 Bernoulli numbers. Considering their special values\, we prove difference 
 relations and duality relations for poly-Bernoulli polynomials.\n\nKhaled 
 Ouafi is a Research Associate at the Faculty of Mathematics at Harvard whe
 re he is part of the number theory research unit. He also is a Sidney Suss
 ex alumnus.
LOCATION:Department of Pure Mathematics and Mathematical Statistics\, Univ
 ersity of Cambridge
END:VEVENT
END:VCALENDAR
