BEGIN:VCALENDAR
VERSION:2.0
PRODID:-//Talks.cam//talks.cam.ac.uk//
X-WR-CALNAME:Talks.cam
BEGIN:VEVENT
SUMMARY:The physics of floating and sinking - Dominic Vella (ITG)
DTSTART:20070123T130500Z
DTEND:20070123T140500Z
UID:TALK6563@talks.cam.ac.uk
CONTACT:5067
DESCRIPTION:Abstract not available
LOCATION:Room MR15\, CMS\, Wilberforce Road
END:VEVENT
END:VCALENDAR
