BEGIN:VCALENDAR
VERSION:2.0
PRODID:-//Talks.cam//talks.cam.ac.uk//
X-WR-CALNAME:Talks.cam
BEGIN:VEVENT
SUMMARY:'The Politics of Grieving: A Panel-led Discussion'  - Barzan Sadiq
  (President of the Cambridge Kurdish society)\; Philip Luther-Davies (PhD 
 student in Sociology)\; Lola Olufemi (chair of FLY\, the university women 
 of colour network)\; Others TBC
DTSTART:20160209T170000Z
DTEND:20160209T184500Z
UID:TALK63899@talks.cam.ac.uk
CONTACT:Pierre Bocquillon
DESCRIPTION:The desire for this event was sparked in the wake of events in
  November 2015 which saw Paris elevated in the public mind and universally
  mourned. Discussions about the inequality of grief began almost immediate
 ly and this event hopes to ask more and take these questions somewhere. It
  will be a chaired and panel-led open discussion about grieving. The panel
 ists will each give us some insight into grief - politically\, psychologic
 ally\, socially and individually and then the discussion will open up to a
 ll. We will consider why some lives are easier to grieve than others\; wha
 t is political about grief\; what it means to grieve and who dictates it. 
 We look forward to seeing many of you there.\n
LOCATION:Mill Lane Lecture Room 3
END:VEVENT
END:VCALENDAR
