BEGIN:VCALENDAR
VERSION:2.0
PRODID:-//Talks.cam//talks.cam.ac.uk//
X-WR-CALNAME:Talks.cam
BEGIN:VEVENT
SUMMARY:2-SAT - Ioan Petcu\, Churchill College
DTSTART:20160224T190000Z
DTEND:20160224T194000Z
UID:TALK63687@talks.cam.ac.uk
CONTACT:Matthew Ireland
DESCRIPTION:Abstract not available
LOCATION:Wolfson Hall\, Churchill College
END:VEVENT
END:VCALENDAR
