BEGIN:VCALENDAR
VERSION:2.0
PRODID:-//Talks.cam//talks.cam.ac.uk//
X-WR-CALNAME:Talks.cam
BEGIN:VEVENT
SUMMARY:Marie-Jeanne Rossignol: The Atlantic World of Anthony Benezet - Pr
 ofessor Marie-Jeanne Rossignol\, Université Paris Diderot
DTSTART:20160208T170000Z
DTEND:20160208T190000Z
UID:TALK63621@talks.cam.ac.uk
CONTACT:Jonathan Goodwin
DESCRIPTION:Abstract not available
LOCATION:Knox Shaw Room\, Sidney Sussex College
END:VEVENT
END:VCALENDAR
