BEGIN:VCALENDAR
VERSION:2.0
PRODID:-//Talks.cam//talks.cam.ac.uk//
X-WR-CALNAME:Talks.cam
BEGIN:VEVENT
SUMMARY:Title to be confirmed - Prof Richmond Sarpong\, University of Cali
 fornia\, Berkeley
DTSTART:20160114T160000Z
DTEND:20160114T170000Z
UID:TALK62474@talks.cam.ac.uk
CONTACT:Chloe Barker
DESCRIPTION:Abstract not available
LOCATION:Wolfson Lecture Theatre\, Department of Chemistry
END:VEVENT
END:VCALENDAR
