BEGIN:VCALENDAR
VERSION:2.0
PRODID:-//Talks.cam//talks.cam.ac.uk//
X-WR-CALNAME:Talks.cam
BEGIN:VEVENT
SUMMARY:Quantum methods in bioluminescence imaging and analysis - Shane La
 wrence\, University of Cambridge
DTSTART:20150408T100000Z
DTEND:20150408T104000Z
UID:TALK61194@talks.cam.ac.uk
CONTACT:Joseph Nelson
DESCRIPTION:Abstract not available
LOCATION:TCM Seminar Room\, Cavendish Laboratory
END:VEVENT
END:VCALENDAR
