BEGIN:VCALENDAR
VERSION:2.0
PRODID:-//Talks.cam//talks.cam.ac.uk//
X-WR-CALNAME:Talks.cam
BEGIN:VEVENT
SUMMARY:Completing the Cent Cols Challenge (for the third time) - William 
 Webb
DTSTART:20150713T130500Z
DTEND:20150713T135500Z
UID:TALK60100@talks.cam.ac.uk
CONTACT:Andrew Rice
DESCRIPTION:The Cent Cols Challenges involve climbing 100 Cols in ten days
 \, cycling approximately 200 kilometers per day with 4\,500 - 5\,000 metre
 s of ascent on each stage.\n\nWilliam Webb\, President of the IET and visi
 tor at the DTG will give us a talk on his recent trip in which he successf
 ully completed this challenge...for the third time.
LOCATION:SS03\, William Gates Building
END:VEVENT
END:VCALENDAR
