BEGIN:VCALENDAR
VERSION:2.0
PRODID:-//Talks.cam//talks.cam.ac.uk//
X-WR-CALNAME:Talks.cam
BEGIN:VEVENT
SUMMARY:From the positive Grassmannian to shallow water waves\, via solito
 n solutions to the KP equation - Lauren Williams (UC Berkeley)
DTSTART:20150210T160000Z
DTEND:20150210T170000Z
UID:TALK57043@talks.cam.ac.uk
CONTACT:Tim Adamo
DESCRIPTION:The positive Grassmannian is a remarkable subset of the real G
 rassmannian which has recently arisen in diverse contexts such as integrab
 le systems\, scattering amplitudes\, and free probability. I will provide 
 an elementary introduction to the positive Grassmannian\, focusing on a fe
 w intriguing aspects: what it ``looks like\," and its connection to shallo
 w water waves (via the KP hierarchy).
LOCATION:DAMTP\, room MR11
END:VEVENT
END:VCALENDAR
