BEGIN:VCALENDAR
VERSION:2.0
PRODID:-//Talks.cam//talks.cam.ac.uk//
X-WR-CALNAME:Talks.cam
BEGIN:VEVENT
SUMMARY:<script></script> - <script></script>
DTSTART:20061013T100000Z
DTEND:20061013T110000Z
UID:TALK5699@talks.cam.ac.uk
CONTACT:Jon Warbrick
DESCRIPTION:&lt\;script>&lt\;/script>
LOCATION:<script></script>
END:VEVENT
END:VCALENDAR
