BEGIN:VCALENDAR
VERSION:2.0
PRODID:-//Talks.cam//talks.cam.ac.uk//
X-WR-CALNAME:Talks.cam
BEGIN:VEVENT
SUMMARY:Synaptic plasticity of GluA3-containing AMPA-receptors\, during an
 xiety and in Alzheimer’s disease - Helmut Kessels\, Netherlands Institut
 e for Neuroscience\, Amsterdam
DTSTART:20141128T160000Z
DTEND:20141128T170000Z
UID:TALK56097@talks.cam.ac.uk
CONTACT:Ingo Greger
DESCRIPTION:Abstract not available
LOCATION:Sanger Seminar Room\, MRC LMB
END:VEVENT
END:VCALENDAR
