BEGIN:VCALENDAR
VERSION:2.0
PRODID:-//Talks.cam//talks.cam.ac.uk//
X-WR-CALNAME:Talks.cam
BEGIN:VEVENT
SUMMARY:Shapes of charged drops in an electric field and Rayleigh jets - F
 ontelos\, M (ICMAT)
DTSTART:20140623T142000Z
DTEND:20140623T145000Z
UID:TALK53071@talks.cam.ac.uk
CONTACT:Mustapha Amrani
DESCRIPTION:When a viscous drop is electrically charged or subject to an e
 xternal electric field\, it may undergo deformations and\, occasionally pr
 oduce thin jets (called Rayleigh jets) that are of practical interest. We 
 study the drop's shapes and related bifurcation problems\, as well as the 
 possible mechanisms for jet formation.\n\n
LOCATION:Seminar Room 1\, Newton Institute
END:VEVENT
END:VCALENDAR
