BEGIN:VCALENDAR
VERSION:2.0
PRODID:-//Talks.cam//talks.cam.ac.uk//
X-WR-CALNAME:Talks.cam
BEGIN:VEVENT
SUMMARY:Systems Biology\, a science in flux - Prof. Steve Oliver (Univ. Ma
 nchester)
DTSTART:20060704T120000Z
DTEND:20060704T130000Z
UID:TALK5152@talks.cam.ac.uk
CONTACT:Duncan Simpson
DESCRIPTION:this is a readvertising of:\nhttp://www.bioc.cam.ac.uk/seminar
 s/index.html\n
LOCATION:Department of Biochemistry\, Sanger building\, lecture theatre
END:VEVENT
END:VCALENDAR
