BEGIN:VCALENDAR
VERSION:2.0
PRODID:-//Talks.cam//talks.cam.ac.uk//
X-WR-CALNAME:Talks.cam
BEGIN:VEVENT
SUMMARY:Periodicity in gas emissions from Erebus lava lake - Tehnuka Ilank
 o\, Geography Department
DTSTART:20140206T130000Z
DTEND:20140206T140000Z
UID:TALK50627@talks.cam.ac.uk
CONTACT:14352
DESCRIPTION:Abstract not available
LOCATION:Harker 2\, Earth Sciences Department
END:VEVENT
END:VCALENDAR
