BEGIN:VCALENDAR
VERSION:2.0
PRODID:-//Talks.cam//talks.cam.ac.uk//
X-WR-CALNAME:Talks.cam
BEGIN:VEVENT
SUMMARY:Capacity of phase-based attractor networks with pairwise couplings
  - David MacKay
DTSTART:20060531T130000Z
DTEND:20060531T140000Z
UID:TALK5060@talks.cam.ac.uk
CONTACT:David MacKay
DESCRIPTION:Work with Mate Lengyel
LOCATION:Ryle Seminar Room\, Cavendish Laboratory
END:VEVENT
END:VCALENDAR
