BEGIN:VCALENDAR
VERSION:2.0
PRODID:-//Talks.cam//talks.cam.ac.uk//
X-WR-CALNAME:Talks.cam
BEGIN:VEVENT
SUMMARY:Professionalization and regulation of English midwifery practice i
 n the care of children with ophthalmia neonatorum\, 1895-1914 - Anne Hanle
 y (Cambridge)
DTSTART:20140227T170000Z
DTEND:20140227T183000Z
UID:TALK50383@talks.cam.ac.uk
CONTACT:Sian Pooley
DESCRIPTION:Abstract not available
LOCATION:Nihon Room\, Pembroke College
END:VEVENT
END:VCALENDAR
