BEGIN:VCALENDAR
VERSION:2.0
PRODID:-//Talks.cam//talks.cam.ac.uk//
X-WR-CALNAME:Talks.cam
BEGIN:VEVENT
SUMMARY:Community Energy Initiatives and Energy Behaviours - Sarah Inge Pa
 rker\, DPHil candidate\, The Environmental Change Institute\, University o
 f Oxford
DTSTART:20140122T120000Z
DTEND:20140122T140000Z
UID:TALK49969@talks.cam.ac.uk
CONTACT:Aaron Gillich
DESCRIPTION:Talk #1:\n*"Power to the People?" - Community Energy Initiativ
 es and the new "Middle Ground" in the UK Energy System*\n\nSarah Inge Park
 er\, DPHil candidate\, The Environmental Change Institute\, University of 
 Oxford\n\n\nTalk #2:\n*An Interdisciplinary Examination of Energy Behaviou
 rs*\n\nMalek Al Chalabi\, DPHil candidate\, The Environmental Change Insti
 tute\, University of Oxford\n
LOCATION:CRASSH Alison Richard Building\, 7 West Road\, Cambridge\, CB3 9D
 T
END:VEVENT
END:VCALENDAR
