BEGIN:VCALENDAR
VERSION:2.0
PRODID:-//Talks.cam//talks.cam.ac.uk//
X-WR-CALNAME:Talks.cam
BEGIN:VEVENT
SUMMARY:CMS electricity usage: 9276.0 kWh on 27/11/13 - Previous day: 9568
 .5 kWh
DTSTART:20131129T010000Z
DTEND:20131129T020000Z
UID:TALK49198@talks.cam.ac.uk
CONTACT:Dankrad Feist
DESCRIPTION:
LOCATION:Average on weekdays: 9220.76905041 kWh
END:VEVENT
END:VCALENDAR
