BEGIN:VCALENDAR
VERSION:2.0
PRODID:-//Talks.cam//talks.cam.ac.uk//
X-WR-CALNAME:Talks.cam
BEGIN:VEVENT
SUMMARY:Get Fat Before You Fly:  Carry-over Effects and Reproductive Succe
 ss in An Arctic-nesting Migratory Bird - Xavier Harrison\, Instute of Zool
 ogy\, Zoological Society of London
DTSTART:20131025T120000Z
DTEND:20131025T130000Z
UID:TALK48493@talks.cam.ac.uk
CONTACT:David Daversa
DESCRIPTION:Abstract not available
LOCATION:Part II Lecture Theatre\, Department of Zoology\, Downing Street\
 , Cambridge CB2 3EJ
END:VEVENT
END:VCALENDAR
