BEGIN:VCALENDAR
VERSION:2.0
PRODID:-//Talks.cam//talks.cam.ac.uk//
X-WR-CALNAME:Talks.cam
BEGIN:VEVENT
SUMMARY:Discussion on 'Environmental Humanities' - Dr. Bhaskar Vira\, Geog
 raphy Department\, University of Cambridge
DTSTART:20131203T130000Z
DTEND:20131203T140000Z
UID:TALK47917@talks.cam.ac.uk
CONTACT:Elizabeth Blanchard
DESCRIPTION:Reading:\n1) http://environmentalhumanities.org/arch/vol1/EH1.
 5.pdf\n\n2) http://environmentalhumanities.org/arch/vol1/EH1.1.pdf\n\n3) h
 ttp://environmentalhumanities.org/arch/vol2/2.9.pdf
LOCATION:Seminar Room
END:VEVENT
END:VCALENDAR
