BEGIN:VCALENDAR
VERSION:2.0
PRODID:-//Talks.cam//talks.cam.ac.uk//
X-WR-CALNAME:Talks.cam
BEGIN:VEVENT
SUMMARY:Future of network modelling - Keeling\, M (University of Warwick)
DTSTART:20130822T103000Z
DTEND:20130822T110000Z
UID:TALK46785@talks.cam.ac.uk
CONTACT:Mustapha Amrani
DESCRIPTION:We discuss the latest progress and challenges in modelling inf
 ection spread through networks. We look to the future and suggest how thes
 e components could interact synergistically to provide a deeper understand
 ing\, as well as highlighting area where more fundamental research is requ
 ired.
LOCATION:Seminar Room 1\, Newton Institute
END:VEVENT
END:VCALENDAR
