BEGIN:VCALENDAR
VERSION:2.0
PRODID:-//Talks.cam//talks.cam.ac.uk//
X-WR-CALNAME:Talks.cam
BEGIN:VEVENT
SUMMARY:  New Perspectives: Women & Leadership - Taking the Leap  - Speake
 r to be confirmed
DTSTART:20130511T110000Z
DTEND:20130511T130000Z
UID:TALK46676@talks.cam.ac.uk
CONTACT:Equality & Diversity
DESCRIPTION:How to get the most out of your time at Cambridge.
LOCATION:Venue to be confirmed
END:VEVENT
END:VCALENDAR
