BEGIN:VCALENDAR
VERSION:2.0
PRODID:-//Talks.cam//talks.cam.ac.uk//
X-WR-CALNAME:Talks.cam
BEGIN:VEVENT
SUMMARY:Film: 'Pinjar' (Chandra Prakash Dwivedi\, 2003) - Speaker to be co
 nfirmed
DTSTART:20130226T183000Z
DTEND:20130226T213000Z
UID:TALK43749@talks.cam.ac.uk
CONTACT:Teresa Segura-Garcia
DESCRIPTION:The South Asia Film Club at the Centre of South Asian Studies 
 is a new fortnightly project that brings a selection of films of South Asi
 a - old and new\, features and documentaries\, from the mainstream to the 
 margins - to the University of Cambridge.\n\nThe club premieres on Tuesday
  26 February at 6:30 p.m. with a screening of Pinjar (Chandra Prakash Dwiv
 edi\, 2003). Based on a novel by Amrita Pritam\, Pinjar tells the tale of 
 a group of characters caught up in the turbulent times of Partition in 194
 7. The film will be shown with English subtitles.\n\nPlease note that atte
 ndance is free but places are limited to 15 - please email us at southasia
 filmclub at gmail.com to confirm a place. For those of you who would like 
 to have dinner\, food is allowed inside.
LOCATION:Audiovisual Room\, Second Floor. Alison Richard Building\, 7 West
  Road\, Cambridge CB3 9DT.
END:VEVENT
END:VCALENDAR
