BEGIN:VCALENDAR
VERSION:2.0
PRODID:-//Talks.cam//talks.cam.ac.uk//
X-WR-CALNAME:Talks.cam
BEGIN:VEVENT
SUMMARY:Understanding the impact of maternal diet on offspring health. - D
 r Susan Ozanne (Cambridge)
DTSTART:20130206T163000Z
DTEND:20130206T173000Z
UID:TALK43129@talks.cam.ac.uk
CONTACT:Jacob Dunn
DESCRIPTION:Abstract not available
LOCATION:Department of Biological Anthropology Lecture Theatre (Room 41) P
 embroke Street
END:VEVENT
END:VCALENDAR
