BEGIN:VCALENDAR
VERSION:2.0
PRODID:-//Talks.cam//talks.cam.ac.uk//
X-WR-CALNAME:Talks.cam
BEGIN:VEVENT
SUMMARY:LGB&T HISTORY MONTH 2013 LECTURE - FROM FIRST KISS TO HUMAN RIGHTS
  DEFENDER - Michael Cashman MEP
DTSTART:20130221T173000Z
DTEND:20130221T183000Z
UID:TALK41917@talks.cam.ac.uk
CONTACT:Equality & Diversity
DESCRIPTION:Michael Cashman MEP and former star of 'EastEnders' shares his
  experiences of challenging discrimination and homophobia\, nationally and
  internationally.\n\nThis event is being held as part of Cambridge's celeb
 rations of LGB&T History Month\n\nA reception will be held after the lectu
 re.\n\nTo book a ticket visit *http://michaelcashman_cambridge.eventbrite.
 co.uk/*
LOCATION: The Howard Building\, Downing College
END:VEVENT
END:VCALENDAR
