BEGIN:VCALENDAR
VERSION:2.0
PRODID:-//Talks.cam//talks.cam.ac.uk//
X-WR-CALNAME:Talks.cam
BEGIN:VEVENT
SUMMARY:Title to be confirmed - Speaker to be confirmed
DTSTART:20130304T113000Z
DTEND:20130304T123000Z
UID:TALK41117@talks.cam.ac.uk
CONTACT:Prof. Julia Gog
DESCRIPTION:Abstract not available
LOCATION:DD48\, Cripps Court\, Queens' College
END:VEVENT
END:VCALENDAR
