BEGIN:VCALENDAR
VERSION:2.0
PRODID:-//Talks.cam//talks.cam.ac.uk//
X-WR-CALNAME:Talks.cam
BEGIN:VEVENT
SUMMARY:New estimates of tropical ice age temperature - Dr Anna-Lena Graue
 l (Dept. of Earth Sciences\, Cambridge)
DTSTART:20121130T170000Z
DTEND:20121130T183000Z
UID:TALK41065@talks.cam.ac.uk
CONTACT:27005
DESCRIPTION:Abstract not available
LOCATION:Thirkill Room\, Clare College
END:VEVENT
END:VCALENDAR
