BEGIN:VCALENDAR
VERSION:2.0
PRODID:-//Talks.cam//talks.cam.ac.uk//
X-WR-CALNAME:Talks.cam
BEGIN:VEVENT
SUMMARY:Cur notatur? Musical notation in early Medieval society - Eduardo 
 Aubert (Newton Society Fellow in the Faculty of Music\; Emmanuel College\,
  Cambridge)
DTSTART:20121024T160000Z
DTEND:20121024T170000Z
UID:TALK41058@talks.cam.ac.uk
CONTACT:30200
DESCRIPTION:Abstract not available
LOCATION:Recital Room\, Faculty of Music\, West Road
END:VEVENT
END:VCALENDAR
