BEGIN:VCALENDAR
VERSION:2.0
PRODID:-//Talks.cam//talks.cam.ac.uk//
X-WR-CALNAME:Talks.cam
BEGIN:VEVENT
SUMMARY:Cosmic Microwave Background / Quaternions - Lucas Hollender/ Brent
  Stewart
DTSTART:20130506T180000Z
DTEND:20130506T193000Z
UID:TALK40997@talks.cam.ac.uk
CONTACT:James Mayoh
DESCRIPTION:Abstract not available
LOCATION:Tizard Room\, Churchill College
END:VEVENT
END:VCALENDAR
