BEGIN:VCALENDAR
VERSION:2.0
PRODID:-//Talks.cam//talks.cam.ac.uk//
X-WR-CALNAME:Talks.cam
BEGIN:VEVENT
SUMMARY:Bayesian inference and machine learning in cosmology and particle 
 physics - Professor Mike Hobson\, Astrophysics Group\, Cavendish Laborator
 y
DTSTART:20121121T160000Z
DTEND:20121121T170000Z
UID:TALK40696@talks.cam.ac.uk
CONTACT:Leona Hope-Coles
DESCRIPTION:Abstract not available
LOCATION:Pippard Lecture Theatre\, Cavendish Laboratory
END:VEVENT
END:VCALENDAR
